BEGIN:VCALENDAR
VERSION:2.0
PRODID:-//Grundschule Lehe - ECPv6.14.2//NONSGML v1.0//EN
CALSCALE:GREGORIAN
METHOD:PUBLISH
X-ORIGINAL-URL:https://gs-lehe.de
X-WR-CALDESC:Veranstaltungen für Grundschule Lehe
REFRESH-INTERVAL;VALUE=DURATION:PT1H
X-Robots-Tag:noindex
X-PUBLISHED-TTL:PT1H
BEGIN:VTIMEZONE
TZID:Europe/Berlin
BEGIN:DAYLIGHT
TZOFFSETFROM:+0100
TZOFFSETTO:+0200
TZNAME:CEST
DTSTART:20180325T010000
END:DAYLIGHT
BEGIN:STANDARD
TZOFFSETFROM:+0200
TZOFFSETTO:+0100
TZNAME:CET
DTSTART:20181028T010000
END:STANDARD
END:VTIMEZONE
BEGIN:VEVENT
DTSTART;VALUE=DATE:20180308
DTEND;VALUE=DATE:20180309
DTSTAMP:20260419T155035
CREATED:20180225T155824Z
LAST-MODIFIED:20180225T155936Z
UID:340-1520467200-1520553599@gs-lehe.de
SUMMARY:1. Hilfe Fortbildung des Kollegiums - Schulfrei für alle Kinder
DESCRIPTION:
URL:https://gs-lehe.de/event/1-hilfe-fortbildung-des-kollegiums-schulfrei-fuer-alle-kinder/
END:VEVENT
END:VCALENDAR