BEGIN:VCALENDAR
VERSION:2.0
PRODID:-//Grundschule Lehe - ECPv6.14.2//NONSGML v1.0//EN
CALSCALE:GREGORIAN
METHOD:PUBLISH
X-ORIGINAL-URL:https://gs-lehe.de
X-WR-CALDESC:Veranstaltungen für Grundschule Lehe
REFRESH-INTERVAL;VALUE=DURATION:PT1H
X-Robots-Tag:noindex
X-PUBLISHED-TTL:PT1H
BEGIN:VTIMEZONE
TZID:Europe/Berlin
BEGIN:DAYLIGHT
TZOFFSETFROM:+0100
TZOFFSETTO:+0200
TZNAME:CEST
DTSTART:20180325T010000
END:DAYLIGHT
BEGIN:STANDARD
TZOFFSETFROM:+0200
TZOFFSETTO:+0100
TZNAME:CET
DTSTART:20181028T010000
END:STANDARD
END:VTIMEZONE
BEGIN:VEVENT
DTSTART;TZID=Europe/Berlin:20180226T200000
DTEND;TZID=Europe/Berlin:20180226T220000
DTSTAMP:20260419T155238
CREATED:20180225T153145Z
LAST-MODIFIED:20180225T185236Z
UID:330-1519675200-1519682400@gs-lehe.de
SUMMARY:Generalversammlung des Fördervereins
DESCRIPTION:
URL:https://gs-lehe.de/event/generalversammlung-des-foerdervereins/
LOCATION:Struven Hus\, Dorfstraße 34\, Lehe\, 26892\, Deutschland
END:VEVENT
BEGIN:VEVENT
DTSTART;TZID=Europe/Berlin:20180228T193000
DTEND;TZID=Europe/Berlin:20180228T201500
DTSTAMP:20260419T155238
CREATED:20180225T153322Z
LAST-MODIFIED:20180225T154443Z
UID:333-1519846200-1519848900@gs-lehe.de
SUMMARY:2. Gesamtkonferenz im Schuljahr 2017/2018
DESCRIPTION:
URL:https://gs-lehe.de/event/2-gesamtkonferenz-im-schuljahr-2017-2018/
LOCATION:Grundschule Lehe\, Sprenkelderstraße 3\, Lehe\, 26892\, Deutschland
END:VEVENT
BEGIN:VEVENT
DTSTART;TZID=Europe/Berlin:20180228T201500
DTEND;TZID=Europe/Berlin:20180228T210000
DTSTAMP:20260419T155238
CREATED:20180225T154559Z
LAST-MODIFIED:20180225T154559Z
UID:336-1519848900-1519851600@gs-lehe.de
SUMMARY:2. Schulvorstandsitzung im Schuljahr 2017/2018
DESCRIPTION:
URL:https://gs-lehe.de/event/2-schulvorstandsitzung-im-schuljahr-2017-2018/
LOCATION:Grundschule Lehe\, Sprenkelderstraße 3\, Lehe\, 26892\, Deutschland
END:VEVENT
END:VCALENDAR