BEGIN:VCALENDAR
VERSION:2.0
PRODID:-//Grundschule Lehe - ECPv6.14.2//NONSGML v1.0//EN
CALSCALE:GREGORIAN
METHOD:PUBLISH
X-ORIGINAL-URL:https://gs-lehe.de
X-WR-CALDESC:Veranstaltungen für Grundschule Lehe
REFRESH-INTERVAL;VALUE=DURATION:PT1H
X-Robots-Tag:noindex
X-PUBLISHED-TTL:PT1H
BEGIN:VTIMEZONE
TZID:Europe/Berlin
BEGIN:DAYLIGHT
TZOFFSETFROM:+0100
TZOFFSETTO:+0200
TZNAME:CEST
DTSTART:20180325T010000
END:DAYLIGHT
BEGIN:STANDARD
TZOFFSETFROM:+0200
TZOFFSETTO:+0100
TZNAME:CET
DTSTART:20181028T010000
END:STANDARD
END:VTIMEZONE
BEGIN:VEVENT
DTSTART;TZID=Europe/Berlin:20180303T070000
DTEND;TZID=Europe/Berlin:20180303T180000
DTSTAMP:20260419T142441
CREATED:20180225T155708Z
LAST-MODIFIED:20180225T155926Z
UID:338-1520060400-1520100000@gs-lehe.de
SUMMARY:Fastenmarsch
DESCRIPTION:
URL:https://gs-lehe.de/event/fastenmarsch/
END:VEVENT
BEGIN:VEVENT
DTSTART;VALUE=DATE:20180308
DTEND;VALUE=DATE:20180309
DTSTAMP:20260419T142441
CREATED:20180225T155824Z
LAST-MODIFIED:20180225T155936Z
UID:340-1520467200-1520553599@gs-lehe.de
SUMMARY:1. Hilfe Fortbildung des Kollegiums - Schulfrei für alle Kinder
DESCRIPTION:
URL:https://gs-lehe.de/event/1-hilfe-fortbildung-des-kollegiums-schulfrei-fuer-alle-kinder/
END:VEVENT
BEGIN:VEVENT
DTSTART;TZID=Europe/Berlin:20180309T163000
DTEND;TZID=Europe/Berlin:20180309T210000
DTSTAMP:20260419T142441
CREATED:20180225T161236Z
LAST-MODIFIED:20180225T161439Z
UID:353-1520613000-1520629200@gs-lehe.de
SUMMARY:Klasse! Wir singen!
DESCRIPTION:Liederfest in Lingen \n\n\n\n16:30 Uhr\nAbfahrt der Busse\n\n\n18:30 Uhr – 19:40 Uhr\nLiederfest in Lingen: Klasse! Wir singen!\n\n\nca. 21:00 Uhr\nAnkunft der Busse in Lehe\, Neulehe\n\n\n\n 
URL:https://gs-lehe.de/event/klasse-wir-singen/
LOCATION:Emsland Arena Lingen\, Lindenstraße 24a\, Lingen\, 49808
END:VEVENT
BEGIN:VEVENT
DTSTART;TZID=Europe/Berlin:20180315T090000
DTEND;TZID=Europe/Berlin:20180315T090000
DTSTAMP:20260419T142441
CREATED:20180225T160345Z
LAST-MODIFIED:20180225T161006Z
UID:345-1521104400-1521104400@gs-lehe.de
SUMMARY:Känguru Mathewettbewerb (Kl. 3a\, 3b\, 4)
DESCRIPTION:
URL:https://gs-lehe.de/event/kaenguru-mathewettbewerb-kl-3a-3b-4/
END:VEVENT
BEGIN:VEVENT
DTSTART;TZID=Europe/Berlin:20180316T090000
DTEND;TZID=Europe/Berlin:20180316T090000
DTSTAMP:20260419T142441
CREATED:20180225T161617Z
LAST-MODIFIED:20180225T161635Z
UID:360-1521190800-1521190800@gs-lehe.de
SUMMARY:Wortgottesdienst und anschließender Osterbrunch
DESCRIPTION:alle Schul- und Vorschulkinder
URL:https://gs-lehe.de/event/wortgottesdienst-und-anschliessender-osterbrunch/
END:VEVENT
BEGIN:VEVENT
DTSTART;VALUE=DATE:20180319
DTEND;VALUE=DATE:20180404
DTSTAMP:20260419T142441
CREATED:20180225T181747Z
LAST-MODIFIED:20180225T182419Z
UID:406-1521417600-1522799999@gs-lehe.de
SUMMARY:Osterferien 2018
DESCRIPTION:
URL:https://gs-lehe.de/event/osterferien/
END:VEVENT
END:VCALENDAR